BEGIN:VCALENDAR
VERSION:2.0
PRODID:-//eventon.com NONSGML v1.0//EN
BEGIN:VEVENT
UID:69e8c44497125
DTSTAMP:20260422T145116
DTSTART:20210707T070000Z
DTEND:20210707T150000Z
TZID:Europe/Paris
LOCATION:
SUMMARY:Animer des réunions créatives
DESCRIPTION: Animer des réunions créatives
URL:https://oriions.com/events/animer-des-reunions-creatives-copy-copy/
END:VEVENT
END:VCALENDAR