BEGIN:VCALENDAR
VERSION:2.0
PRODID:-//eventon.com NONSGML v1.0//EN
BEGIN:VEVENT
UID:69ed283b4486b
DTSTAMP:20260425T224651
DTSTART:20241205T080000Z
DTEND:20241206T160000Z
TZID:Europe/Paris
LOCATION:
SUMMARY:Professional Scrum Master
DESCRIPTION: Professional Scrum Master
URL:https://oriions.com/events/professional-scrum-master-copy-2/
END:VEVENT
END:VCALENDAR