BEGIN:VCALENDAR
VERSION:2.0
PRODID:-//eventon.com NONSGML v1.0//EN
BEGIN:VEVENT
UID:69e5ed31699a3
DTSTAMP:20260420T110905
DTSTART:20250410T070000Z
DTEND:20250411T150000Z
TZID:Europe/Paris
LOCATION:
SUMMARY:Professional Scrum Master
DESCRIPTION: Professional Scrum Master
URL:https://oriions.com/events/professional-scrum-master-7/
END:VEVENT
END:VCALENDAR